BEGIN:VCALENDAR
VERSION:2.0
PRODID:-//Bugui Garcia - ECPv6.4.0//NONSGML v1.0//EN
CALSCALE:GREGORIAN
METHOD:PUBLISH
X-ORIGINAL-URL:https://buguigarcia.com
X-WR-CALDESC:Eventos para Bugui Garcia
REFRESH-INTERVAL;VALUE=DURATION:PT1H
X-Robots-Tag:noindex
X-PUBLISHED-TTL:PT1H
BEGIN:VTIMEZONE
TZID:UTC
BEGIN:STANDARD
TZOFFSETFROM:+0000
TZOFFSETTO:+0000
TZNAME:UTC
DTSTART:20240101T000000
END:STANDARD
END:VTIMEZONE
BEGIN:VEVENT
DTSTART;TZID=UTC:20240528T180000
DTEND;TZID=UTC:20240528T220000
DTSTAMP:20260423T151545
CREATED:20240520T061128Z
LAST-MODIFIED:20240520T061159Z
UID:7447-1716919200-1716933600@buguigarcia.com
SUMMARY:huMANos: circulo de hombres conscientes
DESCRIPTION:Es un llamado a todos los hombres que sienten la necesidad de entenderse mejor a sí mismos y desean contribuir positivamente a sus entornos. \n+ info: https://buguigarcia.com/humanos/ \n 
URL:https://buguigarcia.com/event/humanos-circulo-de-hombres-conscientes/
LOCATION:Sala Amrita (Montgat)\, Carrer Sant Antoni Maria Claret\, 176\, \, Barcelona\, Montgat\, Barcelona\, 08390\, España
CATEGORIES:Experiencia en Barcelona,huMANos: círculo de hombres
ATTACH;FMTTYPE=image/jpeg:https://buguigarcia.com/wp-content/uploads/2024/05/BG-HUMANOS-img-1.jpg
END:VEVENT
END:VCALENDAR